BEGIN:VCALENDAR
VERSION:2.0
PRODID:-//wp-events-plugin.com//7.2.3.1//EN
TZID:America/Chicago
X-WR-TIMEZONE:America/Chicago
BEGIN:VEVENT
UID:4@stantontn.gov
DTSTART;TZID=America/Chicago:20250218T190000
DTEND;TZID=America/Chicago:20250218T200000
DTSTAMP:20250221T064003Z
URL:https://stantontn.gov/events/board-of-mayor-and-aldermen-meeting-2025-
 02-18/
SUMMARY:Board of Mayor and Aldermen Meeting
DESCRIPTION:
LOCATION:Stanton Town Hall\, 8 Main St\, Stanton\, TN\, 38069\, United Stat
 es
X-APPLE-STRUCTURED-LOCATION;VALUE=URI;X-ADDRESS=8 Main St\, Stanton\, TN\, 
 38069\, United States;X-APPLE-RADIUS=100;X-TITLE=Stanton Town Hall:geo:0,0
END:VEVENT
BEGIN:VEVENT
UID:5@stantontn.gov
DTSTART;TZID=America/Chicago:20250318T190000
DTEND;TZID=America/Chicago:20250318T200000
DTSTAMP:20250221T064003Z
URL:https://stantontn.gov/events/board-of-mayor-and-aldermen-meeting-2025-
 03-18/
SUMMARY:Board of Mayor and Aldermen Meeting
DESCRIPTION:
LOCATION:Stanton Town Hall\, 8 Main St\, Stanton\, TN\, 38069\, United Stat
 es
X-APPLE-STRUCTURED-LOCATION;VALUE=URI;X-ADDRESS=8 Main St\, Stanton\, TN\, 
 38069\, United States;X-APPLE-RADIUS=100;X-TITLE=Stanton Town Hall:geo:0,0
END:VEVENT
BEGIN:VEVENT
UID:6@stantontn.gov
DTSTART;TZID=America/Chicago:20250415T190000
DTEND;TZID=America/Chicago:20250415T200000
DTSTAMP:20250221T064003Z
URL:https://stantontn.gov/events/board-of-mayor-and-aldermen-meeting-2025-
 04-15/
SUMMARY:Board of Mayor and Aldermen Meeting
DESCRIPTION:
LOCATION:Stanton Town Hall\, 8 Main St\, Stanton\, TN\, 38069\, United Stat
 es
X-APPLE-STRUCTURED-LOCATION;VALUE=URI;X-ADDRESS=8 Main St\, Stanton\, TN\, 
 38069\, United States;X-APPLE-RADIUS=100;X-TITLE=Stanton Town Hall:geo:0,0
END:VEVENT
BEGIN:VEVENT
UID:7@stantontn.gov
DTSTART;TZID=America/Chicago:20250520T190000
DTEND;TZID=America/Chicago:20250520T200000
DTSTAMP:20250221T064003Z
URL:https://stantontn.gov/events/board-of-mayor-and-aldermen-meeting-2025-
 05-20/
SUMMARY:Board of Mayor and Aldermen Meeting
DESCRIPTION:
LOCATION:Stanton Town Hall\, 8 Main St\, Stanton\, TN\, 38069\, United Stat
 es
X-APPLE-STRUCTURED-LOCATION;VALUE=URI;X-ADDRESS=8 Main St\, Stanton\, TN\, 
 38069\, United States;X-APPLE-RADIUS=100;X-TITLE=Stanton Town Hall:geo:0,0
END:VEVENT
BEGIN:VEVENT
UID:8@stantontn.gov
DTSTART;TZID=America/Chicago:20250617T190000
DTEND;TZID=America/Chicago:20250617T200000
DTSTAMP:20250221T064003Z
URL:https://stantontn.gov/events/board-of-mayor-and-aldermen-meeting-2025-
 06-17/
SUMMARY:Board of Mayor and Aldermen Meeting
DESCRIPTION:
LOCATION:Stanton Town Hall\, 8 Main St\, Stanton\, TN\, 38069\, United Stat
 es
X-APPLE-STRUCTURED-LOCATION;VALUE=URI;X-ADDRESS=8 Main St\, Stanton\, TN\, 
 38069\, United States;X-APPLE-RADIUS=100;X-TITLE=Stanton Town Hall:geo:0,0
END:VEVENT
BEGIN:VEVENT
UID:9@stantontn.gov
DTSTART;TZID=America/Chicago:20250715T190000
DTEND;TZID=America/Chicago:20250715T200000
DTSTAMP:20250221T064003Z
URL:https://stantontn.gov/events/board-of-mayor-and-aldermen-meeting-2025-
 07-15/
SUMMARY:Board of Mayor and Aldermen Meeting
DESCRIPTION:
LOCATION:Stanton Town Hall\, 8 Main St\, Stanton\, TN\, 38069\, United Stat
 es
X-APPLE-STRUCTURED-LOCATION;VALUE=URI;X-ADDRESS=8 Main St\, Stanton\, TN\, 
 38069\, United States;X-APPLE-RADIUS=100;X-TITLE=Stanton Town Hall:geo:0,0
END:VEVENT
BEGIN:VEVENT
UID:10@stantontn.gov
DTSTART;TZID=America/Chicago:20250819T190000
DTEND;TZID=America/Chicago:20250819T200000
DTSTAMP:20250221T064003Z
URL:https://stantontn.gov/events/board-of-mayor-and-aldermen-meeting-2025-
 08-19/
SUMMARY:Board of Mayor and Aldermen Meeting
DESCRIPTION:
LOCATION:Stanton Town Hall\, 8 Main St\, Stanton\, TN\, 38069\, United Stat
 es
X-APPLE-STRUCTURED-LOCATION;VALUE=URI;X-ADDRESS=8 Main St\, Stanton\, TN\, 
 38069\, United States;X-APPLE-RADIUS=100;X-TITLE=Stanton Town Hall:geo:0,0
END:VEVENT
BEGIN:VEVENT
UID:11@stantontn.gov
DTSTART;TZID=America/Chicago:20250916T190000
DTEND;TZID=America/Chicago:20250916T200000
DTSTAMP:20250221T064003Z
URL:https://stantontn.gov/events/board-of-mayor-and-aldermen-meeting-2025-
 09-16/
SUMMARY:Board of Mayor and Aldermen Meeting
DESCRIPTION:
LOCATION:Stanton Town Hall\, 8 Main St\, Stanton\, TN\, 38069\, United Stat
 es
X-APPLE-STRUCTURED-LOCATION;VALUE=URI;X-ADDRESS=8 Main St\, Stanton\, TN\, 
 38069\, United States;X-APPLE-RADIUS=100;X-TITLE=Stanton Town Hall:geo:0,0
END:VEVENT
BEGIN:VEVENT
UID:12@stantontn.gov
DTSTART;TZID=America/Chicago:20251021T190000
DTEND;TZID=America/Chicago:20251021T200000
DTSTAMP:20250221T064003Z
URL:https://stantontn.gov/events/board-of-mayor-and-aldermen-meeting-2025-
 10-21/
SUMMARY:Board of Mayor and Aldermen Meeting
DESCRIPTION:
LOCATION:Stanton Town Hall\, 8 Main St\, Stanton\, TN\, 38069\, United Stat
 es
X-APPLE-STRUCTURED-LOCATION;VALUE=URI;X-ADDRESS=8 Main St\, Stanton\, TN\, 
 38069\, United States;X-APPLE-RADIUS=100;X-TITLE=Stanton Town Hall:geo:0,0
END:VEVENT
BEGIN:VEVENT
UID:13@stantontn.gov
DTSTART;TZID=America/Chicago:20251118T183000
DTEND;TZID=America/Chicago:20251118T193000
DTSTAMP:20251115T205702Z
URL:https://stantontn.gov/events/board-of-mayor-and-aldermen-meeting-2025-
 11-18/
SUMMARY:Board of Mayor and Aldermen Meeting
DESCRIPTION:BMA Agenda 20251118
LOCATION:Stanton Town Hall\, 8 Main St\, Stanton\, TN\, 38069\, United Stat
 es
X-APPLE-STRUCTURED-LOCATION;VALUE=URI;X-ADDRESS=8 Main St\, Stanton\, TN\, 
 38069\, United States;X-APPLE-RADIUS=100;X-TITLE=Stanton Town Hall:geo:0,0
END:VEVENT
BEGIN:VEVENT
UID:76@stantontn.gov
DTSTART;TZID=America/Chicago:20251119T173000
DTEND;TZID=America/Chicago:20251119T183000
DTSTAMP:20251110T171614Z
URL:https://stantontn.gov/events/board-of-zoning-appeals/
SUMMARY:Board of Zoning Appeals
DESCRIPTION:
LOCATION:Stanton Town Hall\, 8 Main St\, Stanton\, TN\, 38069\, United Stat
 es
X-APPLE-STRUCTURED-LOCATION;VALUE=URI;X-ADDRESS=8 Main St\, Stanton\, TN\, 
 38069\, United States;X-APPLE-RADIUS=100;X-TITLE=Stanton Town Hall:geo:0,0
END:VEVENT
BEGIN:VEVENT
UID:14@stantontn.gov
DTSTART;TZID=America/Chicago:20251216T190000
DTEND;TZID=America/Chicago:20251216T200000
DTSTAMP:20250221T064003Z
URL:https://stantontn.gov/events/board-of-mayor-and-aldermen-meeting-2025-
 12-16/
SUMMARY:Board of Mayor and Aldermen Meeting
DESCRIPTION:
LOCATION:Stanton Town Hall\, 8 Main St\, Stanton\, TN\, 38069\, United Stat
 es
X-APPLE-STRUCTURED-LOCATION;VALUE=URI;X-ADDRESS=8 Main St\, Stanton\, TN\, 
 38069\, United States;X-APPLE-RADIUS=100;X-TITLE=Stanton Town Hall:geo:0,0
END:VEVENT
BEGIN:VEVENT
UID:15@stantontn.gov
DTSTART;TZID=America/Chicago:20260120T190000
DTEND;TZID=America/Chicago:20260120T200000
DTSTAMP:20250221T064003Z
URL:https://stantontn.gov/events/board-of-mayor-and-aldermen-meeting-2026-
 01-20/
SUMMARY:Board of Mayor and Aldermen Meeting
DESCRIPTION:
LOCATION:Stanton Town Hall\, 8 Main St\, Stanton\, TN\, 38069\, United Stat
 es
X-APPLE-STRUCTURED-LOCATION;VALUE=URI;X-ADDRESS=8 Main St\, Stanton\, TN\, 
 38069\, United States;X-APPLE-RADIUS=100;X-TITLE=Stanton Town Hall:geo:0,0
END:VEVENT
BEGIN:VEVENT
UID:16@stantontn.gov
DTSTART;TZID=America/Chicago:20260217T190000
DTEND;TZID=America/Chicago:20260217T200000
DTSTAMP:20250221T064003Z
URL:https://stantontn.gov/events/board-of-mayor-and-aldermen-meeting-2026-
 02-17/
SUMMARY:Board of Mayor and Aldermen Meeting
DESCRIPTION:
LOCATION:Stanton Town Hall\, 8 Main St\, Stanton\, TN\, 38069\, United Stat
 es
X-APPLE-STRUCTURED-LOCATION;VALUE=URI;X-ADDRESS=8 Main St\, Stanton\, TN\, 
 38069\, United States;X-APPLE-RADIUS=100;X-TITLE=Stanton Town Hall:geo:0,0
END:VEVENT
BEGIN:VEVENT
UID:17@stantontn.gov
DTSTART;TZID=America/Chicago:20260317T190000
DTEND;TZID=America/Chicago:20260317T200000
DTSTAMP:20250221T064003Z
URL:https://stantontn.gov/events/board-of-mayor-and-aldermen-meeting-2026-
 03-17/
SUMMARY:Board of Mayor and Aldermen Meeting
DESCRIPTION:
LOCATION:Stanton Town Hall\, 8 Main St\, Stanton\, TN\, 38069\, United Stat
 es
X-APPLE-STRUCTURED-LOCATION;VALUE=URI;X-ADDRESS=8 Main St\, Stanton\, TN\, 
 38069\, United States;X-APPLE-RADIUS=100;X-TITLE=Stanton Town Hall:geo:0,0
END:VEVENT
BEGIN:VEVENT
UID:18@stantontn.gov
DTSTART;TZID=America/Chicago:20260421T190000
DTEND;TZID=America/Chicago:20260421T200000
DTSTAMP:20250221T064003Z
URL:https://stantontn.gov/events/board-of-mayor-and-aldermen-meeting-2026-
 04-21/
SUMMARY:Board of Mayor and Aldermen Meeting
DESCRIPTION:
LOCATION:Stanton Town Hall\, 8 Main St\, Stanton\, TN\, 38069\, United Stat
 es
X-APPLE-STRUCTURED-LOCATION;VALUE=URI;X-ADDRESS=8 Main St\, Stanton\, TN\, 
 38069\, United States;X-APPLE-RADIUS=100;X-TITLE=Stanton Town Hall:geo:0,0
END:VEVENT
BEGIN:VEVENT
UID:19@stantontn.gov
DTSTART;TZID=America/Chicago:20260519T190000
DTEND;TZID=America/Chicago:20260519T200000
DTSTAMP:20250221T064003Z
URL:https://stantontn.gov/events/board-of-mayor-and-aldermen-meeting-2026-
 05-19/
SUMMARY:Board of Mayor and Aldermen Meeting
DESCRIPTION:
LOCATION:Stanton Town Hall\, 8 Main St\, Stanton\, TN\, 38069\, United Stat
 es
X-APPLE-STRUCTURED-LOCATION;VALUE=URI;X-ADDRESS=8 Main St\, Stanton\, TN\, 
 38069\, United States;X-APPLE-RADIUS=100;X-TITLE=Stanton Town Hall:geo:0,0
END:VEVENT
BEGIN:VEVENT
UID:20@stantontn.gov
DTSTART;TZID=America/Chicago:20260616T190000
DTEND;TZID=America/Chicago:20260616T200000
DTSTAMP:20250221T064003Z
URL:https://stantontn.gov/events/board-of-mayor-and-aldermen-meeting-2026-
 06-16/
SUMMARY:Board of Mayor and Aldermen Meeting
DESCRIPTION:
LOCATION:Stanton Town Hall\, 8 Main St\, Stanton\, TN\, 38069\, United Stat
 es
X-APPLE-STRUCTURED-LOCATION;VALUE=URI;X-ADDRESS=8 Main St\, Stanton\, TN\, 
 38069\, United States;X-APPLE-RADIUS=100;X-TITLE=Stanton Town Hall:geo:0,0
END:VEVENT
BEGIN:VEVENT
UID:21@stantontn.gov
DTSTART;TZID=America/Chicago:20260721T190000
DTEND;TZID=America/Chicago:20260721T200000
DTSTAMP:20250221T064003Z
URL:https://stantontn.gov/events/board-of-mayor-and-aldermen-meeting-2026-
 07-21/
SUMMARY:Board of Mayor and Aldermen Meeting
DESCRIPTION:
LOCATION:Stanton Town Hall\, 8 Main St\, Stanton\, TN\, 38069\, United Stat
 es
X-APPLE-STRUCTURED-LOCATION;VALUE=URI;X-ADDRESS=8 Main St\, Stanton\, TN\, 
 38069\, United States;X-APPLE-RADIUS=100;X-TITLE=Stanton Town Hall:geo:0,0
END:VEVENT
BEGIN:VEVENT
UID:22@stantontn.gov
DTSTART;TZID=America/Chicago:20260818T190000
DTEND;TZID=America/Chicago:20260818T200000
DTSTAMP:20250221T064003Z
URL:https://stantontn.gov/events/board-of-mayor-and-aldermen-meeting-2026-
 08-18/
SUMMARY:Board of Mayor and Aldermen Meeting
DESCRIPTION:
LOCATION:Stanton Town Hall\, 8 Main St\, Stanton\, TN\, 38069\, United Stat
 es
X-APPLE-STRUCTURED-LOCATION;VALUE=URI;X-ADDRESS=8 Main St\, Stanton\, TN\, 
 38069\, United States;X-APPLE-RADIUS=100;X-TITLE=Stanton Town Hall:geo:0,0
END:VEVENT
BEGIN:VEVENT
UID:23@stantontn.gov
DTSTART;TZID=America/Chicago:20260915T190000
DTEND;TZID=America/Chicago:20260915T200000
DTSTAMP:20250221T064003Z
URL:https://stantontn.gov/events/board-of-mayor-and-aldermen-meeting-2026-
 09-15/
SUMMARY:Board of Mayor and Aldermen Meeting
DESCRIPTION:
LOCATION:Stanton Town Hall\, 8 Main St\, Stanton\, TN\, 38069\, United Stat
 es
X-APPLE-STRUCTURED-LOCATION;VALUE=URI;X-ADDRESS=8 Main St\, Stanton\, TN\, 
 38069\, United States;X-APPLE-RADIUS=100;X-TITLE=Stanton Town Hall:geo:0,0
END:VEVENT
BEGIN:VEVENT
UID:24@stantontn.gov
DTSTART;TZID=America/Chicago:20261020T190000
DTEND;TZID=America/Chicago:20261020T200000
DTSTAMP:20250221T064003Z
URL:https://stantontn.gov/events/board-of-mayor-and-aldermen-meeting-2026-
 10-20/
SUMMARY:Board of Mayor and Aldermen Meeting
DESCRIPTION:
LOCATION:Stanton Town Hall\, 8 Main St\, Stanton\, TN\, 38069\, United Stat
 es
X-APPLE-STRUCTURED-LOCATION;VALUE=URI;X-ADDRESS=8 Main St\, Stanton\, TN\, 
 38069\, United States;X-APPLE-RADIUS=100;X-TITLE=Stanton Town Hall:geo:0,0
END:VEVENT
BEGIN:VEVENT
UID:25@stantontn.gov
DTSTART;TZID=America/Chicago:20261117T190000
DTEND;TZID=America/Chicago:20261117T200000
DTSTAMP:20250221T064003Z
URL:https://stantontn.gov/events/board-of-mayor-and-aldermen-meeting-2026-
 11-17/
SUMMARY:Board of Mayor and Aldermen Meeting
DESCRIPTION:
LOCATION:Stanton Town Hall\, 8 Main St\, Stanton\, TN\, 38069\, United Stat
 es
X-APPLE-STRUCTURED-LOCATION;VALUE=URI;X-ADDRESS=8 Main St\, Stanton\, TN\, 
 38069\, United States;X-APPLE-RADIUS=100;X-TITLE=Stanton Town Hall:geo:0,0
END:VEVENT
BEGIN:VEVENT
UID:26@stantontn.gov
DTSTART;TZID=America/Chicago:20261215T190000
DTEND;TZID=America/Chicago:20261215T200000
DTSTAMP:20250221T064003Z
URL:https://stantontn.gov/events/board-of-mayor-and-aldermen-meeting-2026-
 12-15/
SUMMARY:Board of Mayor and Aldermen Meeting
DESCRIPTION:
LOCATION:Stanton Town Hall\, 8 Main St\, Stanton\, TN\, 38069\, United Stat
 es
X-APPLE-STRUCTURED-LOCATION;VALUE=URI;X-ADDRESS=8 Main St\, Stanton\, TN\, 
 38069\, United States;X-APPLE-RADIUS=100;X-TITLE=Stanton Town Hall:geo:0,0
END:VEVENT
BEGIN:VEVENT
UID:27@stantontn.gov
DTSTART;TZID=America/Chicago:20270119T190000
DTEND;TZID=America/Chicago:20270119T200000
DTSTAMP:20250221T064003Z
URL:https://stantontn.gov/events/board-of-mayor-and-aldermen-meeting-2027-
 01-19/
SUMMARY:Board of Mayor and Aldermen Meeting
DESCRIPTION:
LOCATION:Stanton Town Hall\, 8 Main St\, Stanton\, TN\, 38069\, United Stat
 es
X-APPLE-STRUCTURED-LOCATION;VALUE=URI;X-ADDRESS=8 Main St\, Stanton\, TN\, 
 38069\, United States;X-APPLE-RADIUS=100;X-TITLE=Stanton Town Hall:geo:0,0
END:VEVENT
BEGIN:VEVENT
UID:28@stantontn.gov
DTSTART;TZID=America/Chicago:20270216T190000
DTEND;TZID=America/Chicago:20270216T200000
DTSTAMP:20250221T064003Z
URL:https://stantontn.gov/events/board-of-mayor-and-aldermen-meeting-2027-
 02-16/
SUMMARY:Board of Mayor and Aldermen Meeting
DESCRIPTION:
LOCATION:Stanton Town Hall\, 8 Main St\, Stanton\, TN\, 38069\, United Stat
 es
X-APPLE-STRUCTURED-LOCATION;VALUE=URI;X-ADDRESS=8 Main St\, Stanton\, TN\, 
 38069\, United States;X-APPLE-RADIUS=100;X-TITLE=Stanton Town Hall:geo:0,0
END:VEVENT
BEGIN:VEVENT
UID:29@stantontn.gov
DTSTART;TZID=America/Chicago:20270316T190000
DTEND;TZID=America/Chicago:20270316T200000
DTSTAMP:20250221T064003Z
URL:https://stantontn.gov/events/board-of-mayor-and-aldermen-meeting-2027-
 03-16/
SUMMARY:Board of Mayor and Aldermen Meeting
DESCRIPTION:
LOCATION:Stanton Town Hall\, 8 Main St\, Stanton\, TN\, 38069\, United Stat
 es
X-APPLE-STRUCTURED-LOCATION;VALUE=URI;X-ADDRESS=8 Main St\, Stanton\, TN\, 
 38069\, United States;X-APPLE-RADIUS=100;X-TITLE=Stanton Town Hall:geo:0,0
END:VEVENT
BEGIN:VEVENT
UID:30@stantontn.gov
DTSTART;TZID=America/Chicago:20270420T190000
DTEND;TZID=America/Chicago:20270420T200000
DTSTAMP:20250221T064003Z
URL:https://stantontn.gov/events/board-of-mayor-and-aldermen-meeting-2027-
 04-20/
SUMMARY:Board of Mayor and Aldermen Meeting
DESCRIPTION:
LOCATION:Stanton Town Hall\, 8 Main St\, Stanton\, TN\, 38069\, United Stat
 es
X-APPLE-STRUCTURED-LOCATION;VALUE=URI;X-ADDRESS=8 Main St\, Stanton\, TN\, 
 38069\, United States;X-APPLE-RADIUS=100;X-TITLE=Stanton Town Hall:geo:0,0
END:VEVENT
BEGIN:VEVENT
UID:31@stantontn.gov
DTSTART;TZID=America/Chicago:20270518T190000
DTEND;TZID=America/Chicago:20270518T200000
DTSTAMP:20250221T064003Z
URL:https://stantontn.gov/events/board-of-mayor-and-aldermen-meeting-2027-
 05-18/
SUMMARY:Board of Mayor and Aldermen Meeting
DESCRIPTION:
LOCATION:Stanton Town Hall\, 8 Main St\, Stanton\, TN\, 38069\, United Stat
 es
X-APPLE-STRUCTURED-LOCATION;VALUE=URI;X-ADDRESS=8 Main St\, Stanton\, TN\, 
 38069\, United States;X-APPLE-RADIUS=100;X-TITLE=Stanton Town Hall:geo:0,0
END:VEVENT
BEGIN:VEVENT
UID:32@stantontn.gov
DTSTART;TZID=America/Chicago:20270615T190000
DTEND;TZID=America/Chicago:20270615T200000
DTSTAMP:20250221T064003Z
URL:https://stantontn.gov/events/board-of-mayor-and-aldermen-meeting-2027-
 06-15/
SUMMARY:Board of Mayor and Aldermen Meeting
DESCRIPTION:
LOCATION:Stanton Town Hall\, 8 Main St\, Stanton\, TN\, 38069\, United Stat
 es
X-APPLE-STRUCTURED-LOCATION;VALUE=URI;X-ADDRESS=8 Main St\, Stanton\, TN\, 
 38069\, United States;X-APPLE-RADIUS=100;X-TITLE=Stanton Town Hall:geo:0,0
END:VEVENT
BEGIN:VEVENT
UID:33@stantontn.gov
DTSTART;TZID=America/Chicago:20270720T190000
DTEND;TZID=America/Chicago:20270720T200000
DTSTAMP:20250221T064003Z
URL:https://stantontn.gov/events/board-of-mayor-and-aldermen-meeting-2027-
 07-20/
SUMMARY:Board of Mayor and Aldermen Meeting
DESCRIPTION:
LOCATION:Stanton Town Hall\, 8 Main St\, Stanton\, TN\, 38069\, United Stat
 es
X-APPLE-STRUCTURED-LOCATION;VALUE=URI;X-ADDRESS=8 Main St\, Stanton\, TN\, 
 38069\, United States;X-APPLE-RADIUS=100;X-TITLE=Stanton Town Hall:geo:0,0
END:VEVENT
BEGIN:VEVENT
UID:34@stantontn.gov
DTSTART;TZID=America/Chicago:20270817T190000
DTEND;TZID=America/Chicago:20270817T200000
DTSTAMP:20250221T064003Z
URL:https://stantontn.gov/events/board-of-mayor-and-aldermen-meeting-2027-
 08-17/
SUMMARY:Board of Mayor and Aldermen Meeting
DESCRIPTION:
LOCATION:Stanton Town Hall\, 8 Main St\, Stanton\, TN\, 38069\, United Stat
 es
X-APPLE-STRUCTURED-LOCATION;VALUE=URI;X-ADDRESS=8 Main St\, Stanton\, TN\, 
 38069\, United States;X-APPLE-RADIUS=100;X-TITLE=Stanton Town Hall:geo:0,0
END:VEVENT
BEGIN:VEVENT
UID:35@stantontn.gov
DTSTART;TZID=America/Chicago:20270921T190000
DTEND;TZID=America/Chicago:20270921T200000
DTSTAMP:20250221T064003Z
URL:https://stantontn.gov/events/board-of-mayor-and-aldermen-meeting-2027-
 09-21/
SUMMARY:Board of Mayor and Aldermen Meeting
DESCRIPTION:
LOCATION:Stanton Town Hall\, 8 Main St\, Stanton\, TN\, 38069\, United Stat
 es
X-APPLE-STRUCTURED-LOCATION;VALUE=URI;X-ADDRESS=8 Main St\, Stanton\, TN\, 
 38069\, United States;X-APPLE-RADIUS=100;X-TITLE=Stanton Town Hall:geo:0,0
END:VEVENT
BEGIN:VEVENT
UID:36@stantontn.gov
DTSTART;TZID=America/Chicago:20271019T190000
DTEND;TZID=America/Chicago:20271019T200000
DTSTAMP:20250221T064003Z
URL:https://stantontn.gov/events/board-of-mayor-and-aldermen-meeting-2027-
 10-19/
SUMMARY:Board of Mayor and Aldermen Meeting
DESCRIPTION:
LOCATION:Stanton Town Hall\, 8 Main St\, Stanton\, TN\, 38069\, United Stat
 es
X-APPLE-STRUCTURED-LOCATION;VALUE=URI;X-ADDRESS=8 Main St\, Stanton\, TN\, 
 38069\, United States;X-APPLE-RADIUS=100;X-TITLE=Stanton Town Hall:geo:0,0
END:VEVENT
BEGIN:VEVENT
UID:37@stantontn.gov
DTSTART;TZID=America/Chicago:20271116T190000
DTEND;TZID=America/Chicago:20271116T200000
DTSTAMP:20250221T064003Z
URL:https://stantontn.gov/events/board-of-mayor-and-aldermen-meeting-2027-
 11-16/
SUMMARY:Board of Mayor and Aldermen Meeting
DESCRIPTION:
LOCATION:Stanton Town Hall\, 8 Main St\, Stanton\, TN\, 38069\, United Stat
 es
X-APPLE-STRUCTURED-LOCATION;VALUE=URI;X-ADDRESS=8 Main St\, Stanton\, TN\, 
 38069\, United States;X-APPLE-RADIUS=100;X-TITLE=Stanton Town Hall:geo:0,0
END:VEVENT
BEGIN:VEVENT
UID:38@stantontn.gov
DTSTART;TZID=America/Chicago:20271221T190000
DTEND;TZID=America/Chicago:20271221T200000
DTSTAMP:20250221T064003Z
URL:https://stantontn.gov/events/board-of-mayor-and-aldermen-meeting-2027-
 12-21/
SUMMARY:Board of Mayor and Aldermen Meeting
DESCRIPTION:
LOCATION:Stanton Town Hall\, 8 Main St\, Stanton\, TN\, 38069\, United Stat
 es
X-APPLE-STRUCTURED-LOCATION;VALUE=URI;X-ADDRESS=8 Main St\, Stanton\, TN\, 
 38069\, United States;X-APPLE-RADIUS=100;X-TITLE=Stanton Town Hall:geo:0,0
END:VEVENT
BEGIN:VEVENT
UID:39@stantontn.gov
DTSTART;TZID=America/Chicago:20280118T190000
DTEND;TZID=America/Chicago:20280118T200000
DTSTAMP:20250221T064003Z
URL:https://stantontn.gov/events/board-of-mayor-and-aldermen-meeting-2028-
 01-18/
SUMMARY:Board of Mayor and Aldermen Meeting
DESCRIPTION:
LOCATION:Stanton Town Hall\, 8 Main St\, Stanton\, TN\, 38069\, United Stat
 es
X-APPLE-STRUCTURED-LOCATION;VALUE=URI;X-ADDRESS=8 Main St\, Stanton\, TN\, 
 38069\, United States;X-APPLE-RADIUS=100;X-TITLE=Stanton Town Hall:geo:0,0
END:VEVENT
BEGIN:VEVENT
UID:40@stantontn.gov
DTSTART;TZID=America/Chicago:20280215T190000
DTEND;TZID=America/Chicago:20280215T200000
DTSTAMP:20250221T064003Z
URL:https://stantontn.gov/events/board-of-mayor-and-aldermen-meeting-2028-
 02-15/
SUMMARY:Board of Mayor and Aldermen Meeting
DESCRIPTION:
LOCATION:Stanton Town Hall\, 8 Main St\, Stanton\, TN\, 38069\, United Stat
 es
X-APPLE-STRUCTURED-LOCATION;VALUE=URI;X-ADDRESS=8 Main St\, Stanton\, TN\, 
 38069\, United States;X-APPLE-RADIUS=100;X-TITLE=Stanton Town Hall:geo:0,0
END:VEVENT
BEGIN:VEVENT
UID:41@stantontn.gov
DTSTART;TZID=America/Chicago:20280321T190000
DTEND;TZID=America/Chicago:20280321T200000
DTSTAMP:20250221T064003Z
URL:https://stantontn.gov/events/board-of-mayor-and-aldermen-meeting-2028-
 03-21/
SUMMARY:Board of Mayor and Aldermen Meeting
DESCRIPTION:
LOCATION:Stanton Town Hall\, 8 Main St\, Stanton\, TN\, 38069\, United Stat
 es
X-APPLE-STRUCTURED-LOCATION;VALUE=URI;X-ADDRESS=8 Main St\, Stanton\, TN\, 
 38069\, United States;X-APPLE-RADIUS=100;X-TITLE=Stanton Town Hall:geo:0,0
END:VEVENT
BEGIN:VEVENT
UID:42@stantontn.gov
DTSTART;TZID=America/Chicago:20280418T190000
DTEND;TZID=America/Chicago:20280418T200000
DTSTAMP:20250221T064003Z
URL:https://stantontn.gov/events/board-of-mayor-and-aldermen-meeting-2028-
 04-18/
SUMMARY:Board of Mayor and Aldermen Meeting
DESCRIPTION:
LOCATION:Stanton Town Hall\, 8 Main St\, Stanton\, TN\, 38069\, United Stat
 es
X-APPLE-STRUCTURED-LOCATION;VALUE=URI;X-ADDRESS=8 Main St\, Stanton\, TN\, 
 38069\, United States;X-APPLE-RADIUS=100;X-TITLE=Stanton Town Hall:geo:0,0
END:VEVENT
BEGIN:VEVENT
UID:43@stantontn.gov
DTSTART;TZID=America/Chicago:20280516T190000
DTEND;TZID=America/Chicago:20280516T200000
DTSTAMP:20250221T064003Z
URL:https://stantontn.gov/events/board-of-mayor-and-aldermen-meeting-2028-
 05-16/
SUMMARY:Board of Mayor and Aldermen Meeting
DESCRIPTION:
LOCATION:Stanton Town Hall\, 8 Main St\, Stanton\, TN\, 38069\, United Stat
 es
X-APPLE-STRUCTURED-LOCATION;VALUE=URI;X-ADDRESS=8 Main St\, Stanton\, TN\, 
 38069\, United States;X-APPLE-RADIUS=100;X-TITLE=Stanton Town Hall:geo:0,0
END:VEVENT
BEGIN:VEVENT
UID:44@stantontn.gov
DTSTART;TZID=America/Chicago:20280620T190000
DTEND;TZID=America/Chicago:20280620T200000
DTSTAMP:20250221T064003Z
URL:https://stantontn.gov/events/board-of-mayor-and-aldermen-meeting-2028-
 06-20/
SUMMARY:Board of Mayor and Aldermen Meeting
DESCRIPTION:
LOCATION:Stanton Town Hall\, 8 Main St\, Stanton\, TN\, 38069\, United Stat
 es
X-APPLE-STRUCTURED-LOCATION;VALUE=URI;X-ADDRESS=8 Main St\, Stanton\, TN\, 
 38069\, United States;X-APPLE-RADIUS=100;X-TITLE=Stanton Town Hall:geo:0,0
END:VEVENT
BEGIN:VEVENT
UID:45@stantontn.gov
DTSTART;TZID=America/Chicago:20280718T190000
DTEND;TZID=America/Chicago:20280718T200000
DTSTAMP:20250221T064003Z
URL:https://stantontn.gov/events/board-of-mayor-and-aldermen-meeting-2028-
 07-18/
SUMMARY:Board of Mayor and Aldermen Meeting
DESCRIPTION:
LOCATION:Stanton Town Hall\, 8 Main St\, Stanton\, TN\, 38069\, United Stat
 es
X-APPLE-STRUCTURED-LOCATION;VALUE=URI;X-ADDRESS=8 Main St\, Stanton\, TN\, 
 38069\, United States;X-APPLE-RADIUS=100;X-TITLE=Stanton Town Hall:geo:0,0
END:VEVENT
BEGIN:VEVENT
UID:46@stantontn.gov
DTSTART;TZID=America/Chicago:20280815T190000
DTEND;TZID=America/Chicago:20280815T200000
DTSTAMP:20250221T064003Z
URL:https://stantontn.gov/events/board-of-mayor-and-aldermen-meeting-2028-
 08-15/
SUMMARY:Board of Mayor and Aldermen Meeting
DESCRIPTION:
LOCATION:Stanton Town Hall\, 8 Main St\, Stanton\, TN\, 38069\, United Stat
 es
X-APPLE-STRUCTURED-LOCATION;VALUE=URI;X-ADDRESS=8 Main St\, Stanton\, TN\, 
 38069\, United States;X-APPLE-RADIUS=100;X-TITLE=Stanton Town Hall:geo:0,0
END:VEVENT
BEGIN:VEVENT
UID:47@stantontn.gov
DTSTART;TZID=America/Chicago:20280919T190000
DTEND;TZID=America/Chicago:20280919T200000
DTSTAMP:20250221T064003Z
URL:https://stantontn.gov/events/board-of-mayor-and-aldermen-meeting-2028-
 09-19/
SUMMARY:Board of Mayor and Aldermen Meeting
DESCRIPTION:
LOCATION:Stanton Town Hall\, 8 Main St\, Stanton\, TN\, 38069\, United Stat
 es
X-APPLE-STRUCTURED-LOCATION;VALUE=URI;X-ADDRESS=8 Main St\, Stanton\, TN\, 
 38069\, United States;X-APPLE-RADIUS=100;X-TITLE=Stanton Town Hall:geo:0,0
END:VEVENT
BEGIN:VEVENT
UID:48@stantontn.gov
DTSTART;TZID=America/Chicago:20281017T190000
DTEND;TZID=America/Chicago:20281017T200000
DTSTAMP:20250221T064003Z
URL:https://stantontn.gov/events/board-of-mayor-and-aldermen-meeting-2028-
 10-17/
SUMMARY:Board of Mayor and Aldermen Meeting
DESCRIPTION:
LOCATION:Stanton Town Hall\, 8 Main St\, Stanton\, TN\, 38069\, United Stat
 es
X-APPLE-STRUCTURED-LOCATION;VALUE=URI;X-ADDRESS=8 Main St\, Stanton\, TN\, 
 38069\, United States;X-APPLE-RADIUS=100;X-TITLE=Stanton Town Hall:geo:0,0
END:VEVENT
BEGIN:VEVENT
UID:49@stantontn.gov
DTSTART;TZID=America/Chicago:20281121T190000
DTEND;TZID=America/Chicago:20281121T200000
DTSTAMP:20250221T064003Z
URL:https://stantontn.gov/events/board-of-mayor-and-aldermen-meeting-2028-
 11-21/
SUMMARY:Board of Mayor and Aldermen Meeting
DESCRIPTION:
LOCATION:Stanton Town Hall\, 8 Main St\, Stanton\, TN\, 38069\, United Stat
 es
X-APPLE-STRUCTURED-LOCATION;VALUE=URI;X-ADDRESS=8 Main St\, Stanton\, TN\, 
 38069\, United States;X-APPLE-RADIUS=100;X-TITLE=Stanton Town Hall:geo:0,0
END:VEVENT
BEGIN:VEVENT
UID:50@stantontn.gov
DTSTART;TZID=America/Chicago:20281219T190000
DTEND;TZID=America/Chicago:20281219T200000
DTSTAMP:20250221T064003Z
URL:https://stantontn.gov/events/board-of-mayor-and-aldermen-meeting-2028-
 12-19/
SUMMARY:Board of Mayor and Aldermen Meeting
DESCRIPTION:
LOCATION:Stanton Town Hall\, 8 Main St\, Stanton\, TN\, 38069\, United Stat
 es
X-APPLE-STRUCTURED-LOCATION;VALUE=URI;X-ADDRESS=8 Main St\, Stanton\, TN\, 
 38069\, United States;X-APPLE-RADIUS=100;X-TITLE=Stanton Town Hall:geo:0,0
END:VEVENT
BEGIN:VEVENT
UID:51@stantontn.gov
DTSTART;TZID=America/Chicago:20290116T190000
DTEND;TZID=America/Chicago:20290116T200000
DTSTAMP:20250221T064003Z
URL:https://stantontn.gov/events/board-of-mayor-and-aldermen-meeting-2029-
 01-16/
SUMMARY:Board of Mayor and Aldermen Meeting
DESCRIPTION:
LOCATION:Stanton Town Hall\, 8 Main St\, Stanton\, TN\, 38069\, United Stat
 es
X-APPLE-STRUCTURED-LOCATION;VALUE=URI;X-ADDRESS=8 Main St\, Stanton\, TN\, 
 38069\, United States;X-APPLE-RADIUS=100;X-TITLE=Stanton Town Hall:geo:0,0
END:VEVENT
BEGIN:VEVENT
UID:52@stantontn.gov
DTSTART;TZID=America/Chicago:20290220T190000
DTEND;TZID=America/Chicago:20290220T200000
DTSTAMP:20250221T064003Z
URL:https://stantontn.gov/events/board-of-mayor-and-aldermen-meeting-2029-
 02-20/
SUMMARY:Board of Mayor and Aldermen Meeting
DESCRIPTION:
LOCATION:Stanton Town Hall\, 8 Main St\, Stanton\, TN\, 38069\, United Stat
 es
X-APPLE-STRUCTURED-LOCATION;VALUE=URI;X-ADDRESS=8 Main St\, Stanton\, TN\, 
 38069\, United States;X-APPLE-RADIUS=100;X-TITLE=Stanton Town Hall:geo:0,0
END:VEVENT
BEGIN:VTIMEZONE
TZID:America/Chicago
X-LIC-LOCATION:America/Chicago
BEGIN:STANDARD
DTSTART:20241103T010000
TZOFFSETFROM:-0500
TZOFFSETTO:-0600
TZNAME:CST
END:STANDARD
BEGIN:DAYLIGHT
DTSTART:20250309T030000
TZOFFSETFROM:-0600
TZOFFSETTO:-0500
TZNAME:CDT
END:DAYLIGHT
BEGIN:STANDARD
DTSTART:20251102T010000
TZOFFSETFROM:-0500
TZOFFSETTO:-0600
TZNAME:CST
END:STANDARD
BEGIN:DAYLIGHT
DTSTART:20260308T030000
TZOFFSETFROM:-0600
TZOFFSETTO:-0500
TZNAME:CDT
END:DAYLIGHT
BEGIN:STANDARD
DTSTART:20261101T010000
TZOFFSETFROM:-0500
TZOFFSETTO:-0600
TZNAME:CST
END:STANDARD
BEGIN:DAYLIGHT
DTSTART:20270314T030000
TZOFFSETFROM:-0600
TZOFFSETTO:-0500
TZNAME:CDT
END:DAYLIGHT
BEGIN:STANDARD
DTSTART:20271107T010000
TZOFFSETFROM:-0500
TZOFFSETTO:-0600
TZNAME:CST
END:STANDARD
BEGIN:DAYLIGHT
DTSTART:20280312T030000
TZOFFSETFROM:-0600
TZOFFSETTO:-0500
TZNAME:CDT
END:DAYLIGHT
BEGIN:STANDARD
DTSTART:20281105T010000
TZOFFSETFROM:-0500
TZOFFSETTO:-0600
TZNAME:CST
END:STANDARD
END:VTIMEZONE
END:VCALENDAR